BEGIN:VCALENDAR
VERSION:2.0
PRODID:-//Welcome to CAfRIC Centre - ECPv6.13.2.1//NONSGML v1.0//EN
CALSCALE:GREGORIAN
METHOD:PUBLISH
X-WR-CALNAME:Welcome to CAfRIC Centre
X-ORIGINAL-URL:https://www.cafric.org
X-WR-CALDESC:Events for Welcome to CAfRIC Centre
REFRESH-INTERVAL;VALUE=DURATION:PT1H
X-Robots-Tag:noindex
X-PUBLISHED-TTL:PT1H
BEGIN:VTIMEZONE
TZID:UTC
BEGIN:STANDARD
TZOFFSETFROM:+0000
TZOFFSETTO:+0000
TZNAME:UTC
DTSTART:20240101T000000
END:STANDARD
END:VTIMEZONE
BEGIN:VEVENT
DTSTART;TZID=UTC:20240912T190000
DTEND;TZID=UTC:20241121T210000
DTSTAMP:20260424T160156
CREATED:20240725T144854Z
LAST-MODIFIED:20240725T145154Z
UID:7027-1726167600-1732222800@www.cafric.org
SUMMARY:CAfRIC THRIVE Program - Season 5
DESCRIPTION:CAfRIC (Creating Awareness for Responsible and Informed Choices) is a trauma-informed and evidence-based mental health solutions provider. Our vision is to help people identify and connect with the person\, the passion and the purpose. We also help organizations become safe spaces for connection. \nThank you for your interest in our 8 Week THRIVE Program. We are committed to provide you with evidence-based information to help you gain clarity and a sense of authority in your life. \nAbout the Program \nT– training\nH-healing\nR-reflection\nI– integration\nV– value clarification\nE-engagement \nThe THRIVE program helps individuals understand the origin of their deep-seated beliefs and personalities that control parts of their life without them knowing. \nAfter completing this program individuals gain self compassion and a sense of authority and responsibility in their lives and transition from barely surviving to thriving. \nThe THRIVE program will change your life if: \n  \n\nYou are in a relationship where you do not feel seen\, heard and understood/accepted\, but you are unsure which decision to make. To leave or to stay?\nYou are a parent struggling with disciplining versus spoiling your younger children; or balancing your authority as a parent versus compromising the relationship with your older children.\nYou are an entrepreneur or a leader wanting to balance between supporting your team versus holding them accountable for results.\nYou are a selfless\, compassionate\, and generous person\, but struggle with this dilemma: Your mind tells you someone is taking you for granted; but your heart feels sad and guilty for not helping.\nYou live with an emotional wound of trauma or betrayal from your past relationships with parents\, family or friends.\n\nPsychologist Carl Jung said:\n“Until you make the unconscious conscious\, it will direct your life and you will call it fate” \n“ Life is short\, don’t waste it living someone else’s life” – Steve Jobs \nAt CAfRIC\, we believe that with the right information and support\, every person can maximize their full potential. \nDon’t just do; BE!
URL:https://www.cafric.org/event/thrive-season-5/
LOCATION:Virtually – CAfRIC Centre\, CAfRIC Centre\, Kenya
CATEGORIES:Adults,CAfRIC International,Emotional Health,Mental Health,Parents,Psychological Health
ATTACH;FMTTYPE=image/jpeg:https://www.cafric.org/wp-content/uploads/2024/07/Thrive-Season-5.jpeg
ORGANIZER;CN="CAfRIC International":MAILTO:relations@cafric.org
END:VEVENT
END:VCALENDAR