BEGIN:VCALENDAR
VERSION:2.0
PRODID:-//Welcome to CAfRIC Centre - ECPv6.13.2.1//NONSGML v1.0//EN
CALSCALE:GREGORIAN
METHOD:PUBLISH
X-WR-CALNAME:Welcome to CAfRIC Centre
X-ORIGINAL-URL:https://www.cafric.org
X-WR-CALDESC:Events for Welcome to CAfRIC Centre
REFRESH-INTERVAL;VALUE=DURATION:PT1H
X-Robots-Tag:noindex
X-PUBLISHED-TTL:PT1H
BEGIN:VTIMEZONE
TZID:UTC
BEGIN:STANDARD
TZOFFSETFROM:+0000
TZOFFSETTO:+0000
TZNAME:UTC
DTSTART:20230101T000000
END:STANDARD
END:VTIMEZONE
BEGIN:VEVENT
DTSTART;TZID=UTC:20231207T090000
DTEND;TZID=UTC:20231207T160000
DTSTAMP:20260424T174818
CREATED:20231120T124022Z
LAST-MODIFIED:20231121T114551Z
UID:6829-1701939600-1701964800@www.cafric.org
SUMMARY:Thrive Young Edition: Empowering Teens for Success! 
DESCRIPTION:Firstly\, let’s address the elephant in the room. \n  \nYour teen is about to step into high school\, entering a stage filled with different challenges from low self-esteem to potential encounters with bullying\, misuse of freedom\, exposure to drugs\, unsafe sex practices\, poor grades\, and even sexual abuse. \n  \nIt’s a scary and critical transition\, and we get it\, this shift is a big deal\, and we know you might be worried. \n  \nIt is easy to feel anxious\, especially when we are about to release our precious children to a world that we feel minimal control of. \n  \nWhile feeling anxious is okay\, when we are not aware\, our anxiety may seep into our children at a time that is also most challenging for them both socially and emotionally\, putting them at increased risk for the same challenges we are afraid of. \n  \nOne known and effective way to protect them and maintain their enthusiasm\, confidence\, and resilience during such critical transition periods is Strategic guidance. \n  \nStrategic guidance helps kids thrive in the face of challenges by providing them with reliable information\, connecting them with like-minded peers and mentors\, and fostering a sense of belonging and community even when physical interactions are limited. \n  \nThis is why we as CAfRIC International want to personally invite you and your teen to the Thrive Young Edition. \n  \nAn innovative program designed specifically for teens aged 12-15 who are transitioning to high school. \n  \nIn this 1-day boot camp\, your teen will learn practical skills to increase self awareness\, communicate assertively\, set healthy boundaries\, and gain authority and responsibility in decision making and setting academic goals to not just survive but to truly thrive in high school and beyond. \n  \nYour teen will learn how to: \n🌟 Promote Self-esteem and Positive Body Image \n🌟 Stand Up Against Bullying \n🌟 Navigate Freedom Responsibly \n🌟 Make Informed Decisions between Belonging and Peer Pressure \n🌟 Set SMART Academic Goals \n🌟Form healthy friendships \n🌟Set healthy boundaries and prioritize what is important \n🌟Identify their strengths and learn to maximize their potential \n🌟 Recognize and Prevent Sexual Abuse \n  \nExciting Highlights: \n✨ Networking Opportunities \n✨ Meet Your Mentor Edition \n✨ Fun Trivia Games \n  \nBy the end of the boot camp\, your teen will emerge with: \n🌟 Enhanced Confidence \n🌟 Stronger Resilience \n🌟 Increased self awareness \n🌟Effective communication skills \n🌟Heightened sense of authority and responsibility in their choices and decisions \n  \n📅 Date: 7TH DEC\,9AM-4PM \n  \n📍 Venue: FUNCITY UTAWALA \n  \n👗 Dress Code: Bring out the youthful vibes! We encourage parents and their kids to wear lively and vibrant outfits\, setting the tone for a fun and engaging day ahead! \n  \nInvest in your teen’s future today! \n  \nHurry\, our early bird tickets are limited to only 10 participants. \n  \nSecure your slot using the coupon code THRIVEYOUNG and witness them blossom into a confident\, empowered individual ready to conquer high school and beyond. \n  \nACCESS YOUR TEENS TICKET NOW: https://selar.co/THRIVEYOUNGED1.0
URL:https://www.cafric.org/event/thrive-young-edition-empowering-teens-for-success/
LOCATION:Funcity Utawala\, Utawala\, Utawala\, Nairobi\, Kenya
CATEGORIES:CAfRIC International,Emotional Health,Kids,Psychological Health
ATTACH;FMTTYPE=image/jpeg:https://www.cafric.org/wp-content/uploads/2023/11/THRIVE-YOUNG-2023-CAfRIC-INTERNATIONAL.jpg
ORGANIZER;CN="CAfRIC International":MAILTO:relations@cafric.org
END:VEVENT
END:VCALENDAR